BEGIN:VCALENDAR
VERSION:2.0
PRODID:-//Green Schools National Network - ECPv6.15.20//NONSGML v1.0//EN
CALSCALE:GREGORIAN
METHOD:PUBLISH
X-WR-CALNAME:Green Schools National Network
X-ORIGINAL-URL:https://greenschoolsnationalnetwork.org
X-WR-CALDESC:Events for Green Schools National Network
REFRESH-INTERVAL;VALUE=DURATION:PT1H
X-Robots-Tag:noindex
X-PUBLISHED-TTL:PT1H
BEGIN:VTIMEZONE
TZID:America/New_York
BEGIN:DAYLIGHT
TZOFFSETFROM:-0500
TZOFFSETTO:-0400
TZNAME:EDT
DTSTART:20250309T070000
END:DAYLIGHT
BEGIN:STANDARD
TZOFFSETFROM:-0400
TZOFFSETTO:-0500
TZNAME:EST
DTSTART:20251102T060000
END:STANDARD
BEGIN:DAYLIGHT
TZOFFSETFROM:-0500
TZOFFSETTO:-0400
TZNAME:EDT
DTSTART:20260308T070000
END:DAYLIGHT
BEGIN:STANDARD
TZOFFSETFROM:-0400
TZOFFSETTO:-0500
TZNAME:EST
DTSTART:20261101T060000
END:STANDARD
BEGIN:DAYLIGHT
TZOFFSETFROM:-0500
TZOFFSETTO:-0400
TZNAME:EDT
DTSTART:20270314T070000
END:DAYLIGHT
BEGIN:STANDARD
TZOFFSETFROM:-0400
TZOFFSETTO:-0500
TZNAME:EST
DTSTART:20271107T060000
END:STANDARD
END:VTIMEZONE
BEGIN:VEVENT
DTSTART;VALUE=DATE:20260424
DTEND;VALUE=DATE:20260425
DTSTAMP:20260424T054733
CREATED:20250721T174541Z
LAST-MODIFIED:20251113T211643Z
UID:10000067-1776988800-1777075199@greenschoolsnationalnetwork.org
SUMMARY:GreenSpark 2026
DESCRIPTION:GreenSpark- A National Showcase of Student-Led Sustainability Projects – Celebrating Youth Voice\, Vision\, and Action\nGreenSpark is a national live showcase celebrating student voice\, creativity\, and climate action. \nThis virtual event brings together classrooms and school communities from across the country to spotlight the sustainability projects students have designed and led from garden initiatives to zero-waste campaigns and energy solutions. \nIn real-time sessions\, students will present their work to a national audience of peers and educators\, sharing ideas\, outcomes\, and the impact they’re making in their schools and communities. \nWhether you tune in as a class or an individual\, Spark is a space to be inspired by young changemakers and to celebrate what’s possible when students lead the way toward a greener future.
URL:https://greenschoolsnationalnetwork.org/events/greenschools-spark/
LOCATION:GSNN Online
CATEGORIES:GreenSchool Spark
END:VEVENT
END:VCALENDAR