BEGIN:VCALENDAR
VERSION:2.0
PRODID:-//Green Schools National Network - ECPv6.15.20//NONSGML v1.0//EN
CALSCALE:GREGORIAN
METHOD:PUBLISH
X-WR-CALNAME:Green Schools National Network
X-ORIGINAL-URL:https://greenschoolsnationalnetwork.org
X-WR-CALDESC:Events for Green Schools National Network
REFRESH-INTERVAL;VALUE=DURATION:PT1H
X-Robots-Tag:noindex
X-PUBLISHED-TTL:PT1H
BEGIN:VTIMEZONE
TZID:America/New_York
BEGIN:DAYLIGHT
TZOFFSETFROM:-0500
TZOFFSETTO:-0400
TZNAME:EDT
DTSTART:20190310T070000
END:DAYLIGHT
BEGIN:STANDARD
TZOFFSETFROM:-0400
TZOFFSETTO:-0500
TZNAME:EST
DTSTART:20191103T060000
END:STANDARD
BEGIN:DAYLIGHT
TZOFFSETFROM:-0500
TZOFFSETTO:-0400
TZNAME:EDT
DTSTART:20200308T070000
END:DAYLIGHT
BEGIN:STANDARD
TZOFFSETFROM:-0400
TZOFFSETTO:-0500
TZNAME:EST
DTSTART:20201101T060000
END:STANDARD
BEGIN:DAYLIGHT
TZOFFSETFROM:-0500
TZOFFSETTO:-0400
TZNAME:EDT
DTSTART:20210314T070000
END:DAYLIGHT
BEGIN:STANDARD
TZOFFSETFROM:-0400
TZOFFSETTO:-0500
TZNAME:EST
DTSTART:20211107T060000
END:STANDARD
END:VTIMEZONE
BEGIN:VEVENT
DTSTART;VALUE=DATE:20200715
DTEND;VALUE=DATE:20200718
DTSTAMP:20260421T075700
CREATED:20200612T173005Z
LAST-MODIFIED:20200710T183713Z
UID:10000012-1594771200-1595030399@greenschoolsnationalnetwork.org
SUMMARY:Virtual PD Workshop: Addressing Environmental Justice for a Sustainable Future
DESCRIPTION:Walk away with the beginning design for a compelling project that you can use when school is back in session\n\n\n\n\n\n					\n					 \n				\n			\n				\n				\n				\n				\n				July 15 – 17\, 2020 | 12:00 – 4:00pm ET\nHigh School EducatorsFocused Topic: Environmental Justice  \nThis virtual PD workshop for high school teachers explores the implications of environmental pollution on our communities. Over the course of three\, four-hour sessions\, attendees will use the book\, A Terrible Thing to Waste by Harriet Washington\, as the anchor for a set of learning experiences that will shed light on how Americans of color are disproportionately harmed by environmental hazards. The workshop will model how to incorporate fieldwork and experts to deepen students’ understanding of toxic exposure and institutional negligence in their own communities\, and how this exposure impacts cognitive development. Providing background knowledge\, inspiration\, and direction\, attendees will leave with sound ideas on how to build student agency around a powerful topic. \n			\n				Register\n			\n				\n				\n				\n				\n				\n				\n					\n\n\nYou’ll learn:\n\nAbout the movement to improve and maintain a clean and healthful environment\, especially for communities of color\nHow to create a culture of curiosity and inquiry for your students\nHow to integrate environmental justice into your curriculum\n\n\n\n\n\n					\n					 \n				\n			\n			\n				\n				\n				\n				\n			\n				\n				\n				\n				\n				\n				\n				\n				\n				\n				\n				Cost:\nCatalyst Members: $25 Non-Members: $75\n  \nJuly 15\, 2020 | 12:00 – 4:00 ET July 16\, 2020 | 12:00 – 4:00 ET July 17\, 2020 | 12:00 – 4:00 ET \n			\n			\n				\n				\n				\n				\n				\n				\n				\n				\n				\n				Materials Provided:\n			\n				\n				\n				\n				\n				\n			\n				\n				\n				\n				\n				A Terrible Thing to Waste: Environmental Racism and Its Assault on the American Mind by Harriet A. Washington \n			\n			\n				\n				\n				\n				\n			\n				\n				\n				\n				\n				\n				\n				\n				\n				\n				\n				Facilitators\n			\n			\n				\n				\n				\n				\n			\n				\n				\n				\n				\n				\n				\n				\n				\n				\n				\n				\n				\n					Dinah Becton-Consuegra\n					Director of Partnership Development\, PBLWorks \n					Dinah was born and raised in Chicago\, the eldest and only daughter of two immigrant parents from Mexico and Guatemala. It was there that her love of hip hop\, food and culture was born. Upon attending high school at the prestigious Illinois Math & Science Academy\, her love and loyalty to PBL as a liberatory pedagogy began. Since then she has been about that PBL life. Prior to her role with PBLWorks\, Dinah was the west regional director for EL Education. She is a proud former Deeper Learning Equity Fellow and is currently honored to be serving as a Deeper Learning Equity Coach.\n\n Dinah has over 20 years of experience in education and has served in various leadership capacities for districts\, schools and nonprofits. Her previous roles have included: a high school teacher/ principal\, an executive director of family/community engagement\, and a school turnaround consultant. She shares Barack Obama’s alma mater\, Occidental College. She holds master’s degrees from Claremont Graduate University in secondary teacher education and principal leadership from the University of California\, Los Angeles. Dinah delights in eating and snorkeling her way around the world with her wife and two boys\, blogging\, urban farming\, houseplant propagating\, and tackling all things DIY at her home in Oakland\, CA.\n					X\n				\n			\n			\n				\n				\n				\n				\n				\n				\n				\n				\n				\n				\n				\n					David DenHartog\n					Director of Innovative Learning\, Green Schools National Network \n					David serves as the Director of Innovative Learning at the Green Schools National Network (GSNN)\, David is dedicated to helping schools and districts leverage education for sustainability as the driver for excellence. Working with pre-K – 12th grade school leaders around the U.S. and world\, David and GSNN help to catalyze green\, healthy\, and sustainable practices predominately utilizing deep learning; service and stewardship; facilities design and management; health and well-being; and transformational leadership. David’s experience as a school principal\, classroom teacher\, and regional school designer\, along with the opportunities he has had to learn from educators around the U.S. and world\, fuel his optimistic\, passionate dedication to educational transformation. David also co-produces The Other Literacies podcast. \n					XLinkedIn
URL:https://greenschoolsnationalnetwork.org/events/addressing-environmental-justice/
LOCATION:GSNN Online
CATEGORIES:Virtual
ATTACH;FMTTYPE=image/jpeg:https://greenschoolsnationalnetwork.org/wp-content/uploads/2020/06/AdobeStock_34410852409-Converted.jpg
END:VEVENT
END:VCALENDAR