BEGIN:VCALENDAR
VERSION:2.0
PRODID:-//Green Schools National Network - ECPv6.15.20//NONSGML v1.0//EN
CALSCALE:GREGORIAN
METHOD:PUBLISH
X-ORIGINAL-URL:https://greenschoolsnationalnetwork.org
X-WR-CALDESC:Events for Green Schools National Network
REFRESH-INTERVAL;VALUE=DURATION:PT1H
X-Robots-Tag:noindex
X-PUBLISHED-TTL:PT1H
BEGIN:VTIMEZONE
TZID:America/New_York
BEGIN:DAYLIGHT
TZOFFSETFROM:-0500
TZOFFSETTO:-0400
TZNAME:EDT
DTSTART:20190310T070000
END:DAYLIGHT
BEGIN:STANDARD
TZOFFSETFROM:-0400
TZOFFSETTO:-0500
TZNAME:EST
DTSTART:20191103T060000
END:STANDARD
BEGIN:DAYLIGHT
TZOFFSETFROM:-0500
TZOFFSETTO:-0400
TZNAME:EDT
DTSTART:20200308T070000
END:DAYLIGHT
BEGIN:STANDARD
TZOFFSETFROM:-0400
TZOFFSETTO:-0500
TZNAME:EST
DTSTART:20201101T060000
END:STANDARD
BEGIN:DAYLIGHT
TZOFFSETFROM:-0500
TZOFFSETTO:-0400
TZNAME:EDT
DTSTART:20210314T070000
END:DAYLIGHT
BEGIN:STANDARD
TZOFFSETFROM:-0400
TZOFFSETTO:-0500
TZNAME:EST
DTSTART:20211107T060000
END:STANDARD
END:VTIMEZONE
BEGIN:VEVENT
DTSTART;VALUE=DATE:20200617
DTEND;VALUE=DATE:20200620
DTSTAMP:20260425T170812
CREATED:20200518T181206Z
LAST-MODIFIED:20200521T184952Z
UID:10000014-1592352000-1592611199@greenschoolsnationalnetwork.org
SUMMARY:Virtual PD Workshop: We All Live in a Watershed
DESCRIPTION:June 17 – 19\, 2020 |12:00 – 4:00pm ET\nMiddle School EducatorsFocused Topic: Watersheds\nThis virtual PD workshop for middle school teachers explores the central role that water plays in all life. Over the course of three\, four-hour sessions\, attendees will take part in synchronous and asynchronous learning experiences that demonstrate how “We All Live in a Watershed!”\, connecting backyards\, schoolyards\, and communities. These learning experiences were designed using a rubric for place-\, project-\, and problem-based learning and leverage real-time\, online data sources that provide watershed information and resources. Experiences can be replicated with middle school students and support mastery of science\, math\, and ELA standards. \n\nCost: Free for Catalyst Network members; $50 for non-network participantsRegistration limited to 24 participantsRegistration deadline is June 10 (5:00 p.m. ET)\n \nJune 17\, 2020 | 12:00 – 4:00 ETJune 18\, 2020 | 12:00 – 4:00 ETJune 19\, 2020 | 12:00 – 4:00 ET \n\n \n  \n			\n				Register
URL:https://greenschoolsnationalnetwork.org/events/virtual-pd-watershed/
LOCATION:GSNN Online
CATEGORIES:Virtual
ATTACH;FMTTYPE=image/jpeg:https://greenschoolsnationalnetwork.org/wp-content/uploads/2020/05/watershed-webinar.jpg
END:VEVENT
END:VCALENDAR